BEGIN:VCALENDAR
VERSION:2.0
PRODID: -//Q4 Inc.//EN
METHOD:PUBLISH
BEGIN:VTIMEZONE
TZID:America/New_York
X-LIC-LOCATION:America/New_York
BEGIN:DAYLIGHT
TZOFFSETFROM:-0500
TZOFFSETTO:-0400
TZNAME:EDT
DTSTART:19700308T020000
RRULE:FREQ=YEARLY;BYMONTH=3;BYDAY=2SU
END:DAYLIGHT
BEGIN:STANDARD
TZOFFSETFROM:-0400
TZOFFSETTO:-0500
TZNAME:EST
DTSTART:19701101T020000
RRULE:FREQ=YEARLY;BYMONTH=11;BYDAY=1SU
END:STANDARD
END:VTIMEZONE
BEGIN:VEVENT
ORGANIZER:MAILTO:info@blank.q4web.com
DTSTART;TZID="America/New_York":20260423T000000
DTEND;TZID="America/New_York":20260423T000000
LOCATION:
UID:11dbad5c-8212-4ee0-b173-4ab1ca2a9740
DTSTAMP:20260419T103210
SUMMARY:Annual Report 2025
DESCRIPTION: View More Information: http://investor.webstep.com/Investors/events/event-details/2026/Annual-Report-2025/default.aspx
URL;VALUE=URI:http://investor.webstep.com/Investors/events/event-details/2026/Annual-Report-2025/default.aspx
PRIORITY:5
CLASS:PUBLIC
END:VEVENT
END:VCALENDAR
