BEGIN:VCALENDAR
VERSION:2.0
PRODID: -//Q4 Inc.//EN
METHOD:PUBLISH
BEGIN:VTIMEZONE
TZID:America/New_York
X-LIC-LOCATION:America/New_York
BEGIN:DAYLIGHT
TZOFFSETFROM:-0500
TZOFFSETTO:-0400
TZNAME:EDT
DTSTART:19700308T020000
RRULE:FREQ=YEARLY;BYMONTH=3;BYDAY=2SU
END:DAYLIGHT
BEGIN:STANDARD
TZOFFSETFROM:-0400
TZOFFSETTO:-0500
TZNAME:EST
DTSTART:19701101T020000
RRULE:FREQ=YEARLY;BYMONTH=11;BYDAY=1SU
END:STANDARD
END:VTIMEZONE
BEGIN:VEVENT
ORGANIZER:MAILTO:info@blank.q4web.com
DTSTART;TZID="America/New_York":20200826T000000
DTEND;TZID="America/New_York":20200826T000000
LOCATION:
UID:adfd3840-aa2b-4f9c-85ea-c3e76baca043
DTSTAMP:20260419T170219
SUMMARY:Half-yearly Report
DESCRIPTION: View More Information: http://investor.webstep.com/Investors/events/event-details/2020/Half-yearly-Report/default.aspx
URL;VALUE=URI:http://investor.webstep.com/Investors/events/event-details/2020/Half-yearly-Report/default.aspx
PRIORITY:5
CLASS:PUBLIC
END:VEVENT
END:VCALENDAR
